BEGIN:VCALENDAR
VERSION:2.0
PRODID:-//Amalia Latin Gourmet - ECPv6.15.17.1//NONSGML v1.0//EN
CALSCALE:GREGORIAN
METHOD:PUBLISH
X-ORIGINAL-URL:https://amaliallc.com
X-WR-CALDESC:Events for Amalia Latin Gourmet
REFRESH-INTERVAL;VALUE=DURATION:PT1H
X-Robots-Tag:noindex
X-PUBLISHED-TTL:PT1H
BEGIN:VTIMEZONE
TZID:America/Chicago
BEGIN:DAYLIGHT
TZOFFSETFROM:-0600
TZOFFSETTO:-0500
TZNAME:CDT
DTSTART:20220313T080000
END:DAYLIGHT
BEGIN:STANDARD
TZOFFSETFROM:-0500
TZOFFSETTO:-0600
TZNAME:CST
DTSTART:20221106T070000
END:STANDARD
BEGIN:DAYLIGHT
TZOFFSETFROM:-0600
TZOFFSETTO:-0500
TZNAME:CDT
DTSTART:20230312T080000
END:DAYLIGHT
BEGIN:STANDARD
TZOFFSETFROM:-0500
TZOFFSETTO:-0600
TZNAME:CST
DTSTART:20231105T070000
END:STANDARD
BEGIN:DAYLIGHT
TZOFFSETFROM:-0600
TZOFFSETTO:-0500
TZNAME:CDT
DTSTART:20240310T080000
END:DAYLIGHT
BEGIN:STANDARD
TZOFFSETFROM:-0500
TZOFFSETTO:-0600
TZNAME:CST
DTSTART:20241103T070000
END:STANDARD
END:VTIMEZONE
BEGIN:VEVENT
DTSTART;TZID=America/Chicago:20231014T123000
DTEND;TZID=America/Chicago:20231014T140000
DTSTAMP:20260425T085512
CREATED:20230607T002340Z
LAST-MODIFIED:20230607T002340Z
UID:16092-1697286600-1697292000@amaliallc.com
SUMMARY:Amalia at the International School of MN "International Day"
DESCRIPTION:Amalia joins the International School of MN for “International Day”.  We expect 500+ visitors for this event\, and we have music/performances from artists from all over the world. It’s truly a show-piece event for our community.
URL:https://amaliallc.com/event/amalia-at-the-international-school-of-mn-international-day/
LOCATION:The International School of Minnesota
CATEGORIES:Cooking Class,Cooking Demonstration,Culinary Enrichment,Event Appearance,Featured Chef,Presentation,Private Event
END:VEVENT
BEGIN:VEVENT
DTSTART;TZID=America/Chicago:20231009T180000
DTEND;TZID=America/Chicago:20231009T190000
DTSTAMP:20260425T085512
CREATED:20230809T004058Z
LAST-MODIFIED:20230809T004058Z
UID:16897-1696874400-1696878000@amaliallc.com
SUMMARY:Amalia at Infoblox Hispanic Heritage Month Celebration
DESCRIPTION:Cultural culinary experience and book signing. \nPrivate event
URL:https://amaliallc.com/event/amalia-at-infoblox-hispanic-heritage-month-celebration/
LOCATION:Infoblox Virtual Event
CATEGORIES:Cooking Class,Cooking Demonstration,Corporate Event,Culinary Enrichment,Featured Chef,Presentation,Private Event,Speaking Engagement,Virtual Gourmet Experience
END:VEVENT
BEGIN:VEVENT
DTSTART;TZID=America/Chicago:20231005T120000
DTEND;TZID=America/Chicago:20231005T130000
DTSTAMP:20260425T085512
CREATED:20230613T214422Z
LAST-MODIFIED:20230613T214422Z
UID:16260-1696507200-1696510800@amaliallc.com
SUMMARY:Amalia Celebrates Hispanic Heritage Month with City of Minneapolis
DESCRIPTION:Amalia Celebrates Hispanic Heritage Month with City of Minneapolis. \nPrivate event
URL:https://amaliallc.com/event/amalia-celebrates-hispanic-heritage-month-with-city-of-minneapolis/
LOCATION:City of Minneapolis
CATEGORIES:Cooking Class,Cooking Demonstration,Culinary Enrichment,Featured Chef,Keynote Speaker,Private Event,Speaking Engagement
END:VEVENT
BEGIN:VEVENT
DTSTART;TZID=America/Chicago:20230413T163000
DTEND;TZID=America/Chicago:20230413T183000
DTSTAMP:20260425T085512
CREATED:20230401T223303Z
LAST-MODIFIED:20230401T223459Z
UID:15175-1681403400-1681410600@amaliallc.com
SUMMARY:Amalia at Rockstoria Studios
DESCRIPTION:‘The Great Pivot’ is the theme of this NAWBO-MN Happy Hour event. Amalia joins other entrepreneurs in a panel where she will also cook and talk about her great privot. \nThis event is open to everyone\, it’s complimentary\, but you must register. \nNAWBO-MN
URL:https://amaliallc.com/event/amalia-at-rockstoria-studios-2/
LOCATION:Rockstoria Studios\, 2327 Wycliff St. Suite 340\, St. Paul\, MN\, 55344-3243\, United States
CATEGORIES:Cooking Demonstration,Culinary Enrichment,Panelist / Speaker,Presentation,Public Event,Speaking Engagement
END:VEVENT
BEGIN:VEVENT
DTSTART;TZID=America/Chicago:20230403T080000
DTEND;TZID=America/Chicago:20230407T170000
DTSTAMP:20260425T085512
CREATED:20230205T203422Z
LAST-MODIFIED:20230205T203422Z
UID:14068-1680508800-1680886800@amaliallc.com
SUMMARY:Amalia at CIA-Hormel Program Napa
DESCRIPTION:Amalia at CIA-Hormel program Napa.
URL:https://amaliallc.com/event/amalia-at-cia-hormel-program-napa/
LOCATION:Culinary Institute of America Napa\, California
CATEGORIES:Corporate Event,Culinary Enrichment
END:VEVENT
END:VCALENDAR